BEGIN:VCALENDAR
VERSION:2.0
PRODID:-//TJ Sokol Slavonice - ECPv6.15.20//NONSGML v1.0//EN
CALSCALE:GREGORIAN
METHOD:PUBLISH
X-ORIGINAL-URL:https://sokolslavonice.cz
X-WR-CALDESC:Akce na TJ Sokol Slavonice
REFRESH-INTERVAL;VALUE=DURATION:PT1H
X-Robots-Tag:noindex
X-PUBLISHED-TTL:PT1H
BEGIN:VTIMEZONE
TZID:UTC
BEGIN:STANDARD
TZOFFSETFROM:+0000
TZOFFSETTO:+0000
TZNAME:UTC
DTSTART:20250101T000000
END:STANDARD
END:VTIMEZONE
BEGIN:VEVENT
DTSTART;TZID=UTC:20260412T100000
DTEND;TZID=UTC:20260412T120000
DTSTAMP:20260419T134023
CREATED:20260310T125057Z
LAST-MODIFIED:20260414T135751Z
UID:509-1775988000-1775995200@sokolslavonice.cz
SUMMARY:Slavonice U13 - Třebětice U13
DESCRIPTION:11. kolo\, 5. liga U13 sk. B – okr. Jindřichův Hradec \nSlavonice U13 – Třebětice U13\n \nNeděle 12.04.26 10:00
URL:https://sokolslavonice.cz/akce/slavonice-u13-trebetice-u13/
LOCATION:Hřiště TJ Sokol Slavonice\, Rudolecká 285\, Slavonice\, Jihočeský\, 37881\, Czech Republic
CATEGORIES:Fotbal
ORGANIZER;CN="TJ Sokol Slavonice":MAILTO:info@sokolslavonice.cz
END:VEVENT
BEGIN:VEVENT
DTSTART;TZID=UTC:20260412T160000
DTEND;TZID=UTC:20260412T180000
DTSTAMP:20260419T134023
CREATED:20260310T090351Z
LAST-MODIFIED:20260414T140523Z
UID:441-1776009600-1776016800@sokolslavonice.cz
SUMMARY:TJ Sokol Neplachov - TJ Sokol Slavonice
DESCRIPTION:17. kolo\, 7. liga sk. D – Jihočeský kraj \nTJ Sokol Neplachov – TJ Sokol Slavonice \nNeděle 12.04.26 16:00 \n  \nVýsledek: 3:1 (2:0)\n(NE: Kirilovicz\, Novotný\, Dušák\, SL: V.Vlk)
URL:https://sokolslavonice.cz/akce/tj-sokol-neplachov-tj-sokol-slavonice/
LOCATION:Venkovní zápas\, Czech Republic
CATEGORIES:Fotbal
END:VEVENT
END:VCALENDAR