BEGIN:VCALENDAR
VERSION:2.0
PRODID:-//TJ Sokol Slavonice - ECPv6.15.20//NONSGML v1.0//EN
CALSCALE:GREGORIAN
METHOD:PUBLISH
X-WR-CALNAME:TJ Sokol Slavonice
X-ORIGINAL-URL:https://sokolslavonice.cz
X-WR-CALDESC:Akce na TJ Sokol Slavonice
REFRESH-INTERVAL;VALUE=DURATION:PT1H
X-Robots-Tag:noindex
X-PUBLISHED-TTL:PT1H
BEGIN:VTIMEZONE
TZID:UTC
BEGIN:STANDARD
TZOFFSETFROM:+0000
TZOFFSETTO:+0000
TZNAME:UTC
DTSTART:20250101T000000
END:STANDARD
END:VTIMEZONE
BEGIN:VEVENT
DTSTART;TZID=UTC:20260314T103000
DTEND;TZID=UTC:20260314T123000
DTSTAMP:20260420T010739
CREATED:20260310T082630Z
LAST-MODIFIED:20260315T190123Z
UID:424-1773484200-1773491400@sokolslavonice.cz
SUMMARY:TJ Sokol Jarošov nad Nežárkou - TJ Sokol Slavonice
DESCRIPTION:Přátelské utkání TJ Sokol Jarošov nad Nežárkou – TJ Sokol Slavonice \nSobota\, 14.3.2026 10:30 \nVýsledek: 3:3\n(SL.: Přibyl M.\, Horák H. M.\, vlastní)
URL:https://sokolslavonice.cz/akce/pratelak-s-jarosovem/
LOCATION:Venkovní zápas\, Czech Republic
CATEGORIES:Přátelské zápasy
END:VEVENT
END:VCALENDAR