BEGIN:VCALENDAR
VERSION:2.0
PRODID:-//TJ Sokol Slavonice - ECPv6.15.20//NONSGML v1.0//EN
CALSCALE:GREGORIAN
METHOD:PUBLISH
X-ORIGINAL-URL:https://sokolslavonice.cz
X-WR-CALDESC:Akce na TJ Sokol Slavonice
REFRESH-INTERVAL;VALUE=DURATION:PT1H
X-Robots-Tag:noindex
X-PUBLISHED-TTL:PT1H
BEGIN:VTIMEZONE
TZID:UTC
BEGIN:STANDARD
TZOFFSETFROM:+0000
TZOFFSETTO:+0000
TZNAME:UTC
DTSTART:20250101T000000
END:STANDARD
END:VTIMEZONE
BEGIN:VEVENT
DTSTART;TZID=UTC:20260418T170000
DTEND;TZID=UTC:20260418T190000
DTSTAMP:20260419T184725
CREATED:20260310T090716Z
LAST-MODIFIED:20260323T125807Z
UID:443-1776531600-1776538800@sokolslavonice.cz
SUMMARY:TJ Sokol Slavonice - TJ Jiskra Třeboň "B"
DESCRIPTION:18. kolo\, 7. liga sk. D – Jihočeský kraj \n  \nTJ Sokol Slavonice – TJ Jiskra Třeboň „B“ \n  \nSobota 18.04.26 17:00
URL:https://sokolslavonice.cz/akce/tj-sokol-slavonice-tj-jiskra-trebon-b/
LOCATION:Hřiště TJ Sokol Slavonice\, Rudolecká 285\, Slavonice\, Jihočeský\, 37881\, Czech Republic
CATEGORIES:Fotbal
ORGANIZER;CN="TJ Sokol Slavonice":MAILTO:info@sokolslavonice.cz
END:VEVENT
BEGIN:VEVENT
DTSTART;TZID=UTC:20260425T170000
DTEND;TZID=UTC:20260425T190000
DTSTAMP:20260419T184725
CREATED:20260310T091642Z
LAST-MODIFIED:20260310T093558Z
UID:449-1777136400-1777143600@sokolslavonice.cz
SUMMARY:SK Dobrá Voda - TJ Sokol Slavonice
DESCRIPTION:19. kolo\, 7. liga sk. D – Jihočeský kraj \n  \nSK Dobrá Voda u ČB – TJ Sokol Slavonice \n\nSobota 25.04.26 17:00
URL:https://sokolslavonice.cz/akce/sk-dobra-voda-tj-sokol-slavonice/
LOCATION:Venkovní zápas\, Czech Republic
CATEGORIES:Fotbal
END:VEVENT
BEGIN:VEVENT
DTSTART;TZID=UTC:20260503T140000
DTEND;TZID=UTC:20260503T160000
DTSTAMP:20260419T184725
CREATED:20260310T092519Z
LAST-MODIFIED:20260323T125821Z
UID:458-1777816800-1777824000@sokolslavonice.cz
SUMMARY:TJ Sokol Slavonice - AC BUK
DESCRIPTION:20. kolo\, 7. liga sk. D – Jihočeský kraj \n  \nTJ Sokol Slavonice – AC BUK \n  \nSobota 18.04.26 17:00
URL:https://sokolslavonice.cz/akce/tj-sokol-slavonice-ac-buk/
LOCATION:Hřiště TJ Sokol Slavonice\, Rudolecká 285\, Slavonice\, Jihočeský\, 37881\, Czech Republic
CATEGORIES:Fotbal
ORGANIZER;CN="TJ Sokol Slavonice":MAILTO:info@sokolslavonice.cz
END:VEVENT
BEGIN:VEVENT
DTSTART;TZID=UTC:20260508T180000
DTEND;TZID=UTC:20260508T200000
DTSTAMP:20260419T184725
CREATED:20260310T092748Z
LAST-MODIFIED:20260310T093452Z
UID:461-1778263200-1778270400@sokolslavonice.cz
SUMMARY:SK Čtyři Dvory - TJ Sokol Slavonice
DESCRIPTION:21. kolo\, 7. liga sk. D – Jihočeský kraj \n  \nSK Čtyři Dvory – TJ Sokol Slavonice \n\nPátek 08.05.26 18:00
URL:https://sokolslavonice.cz/akce/sk-ctyri-dvory-tj-sokol-slavonice/
LOCATION:Venkovní zápas\, Czech Republic
CATEGORIES:Fotbal
END:VEVENT
BEGIN:VEVENT
DTSTART;TZID=UTC:20260516T170000
DTEND;TZID=UTC:20260516T190000
DTSTAMP:20260419T184725
CREATED:20260310T094335Z
LAST-MODIFIED:20260323T125837Z
UID:470-1778950800-1778958000@sokolslavonice.cz
SUMMARY:TJ Sokol Slavonice - FK Borek
DESCRIPTION:22. kolo\, 7. liga sk. D – Jihočeský kraj \n  \nTJ Sokol Slavonice – FK Borek \n  \nSobota 16.05.26 17:00
URL:https://sokolslavonice.cz/akce/tj-sokol-slavonice-fk-borek/
LOCATION:Hřiště TJ Sokol Slavonice\, Rudolecká 285\, Slavonice\, Jihočeský\, 37881\, Czech Republic
CATEGORIES:Fotbal
ORGANIZER;CN="TJ Sokol Slavonice":MAILTO:info@sokolslavonice.cz
END:VEVENT
BEGIN:VEVENT
DTSTART;TZID=UTC:20260523T170000
DTEND;TZID=UTC:20260523T190000
DTSTAMP:20260419T184725
CREATED:20260310T094703Z
LAST-MODIFIED:20260323T125906Z
UID:474-1779555600-1779562800@sokolslavonice.cz
SUMMARY:TJ Sokol Slavonice - Slavoj Hrdějovice
DESCRIPTION:23. kolo\, 7. liga sk. D – Jihočeský kraj \n  \nTJ Sokol Slavonice – Slavoj Hrdějovice \n  \nSobota 23.05.26 17:00
URL:https://sokolslavonice.cz/akce/tj-sokol-slavonice-slavoj-hrdejovice/
LOCATION:Hřiště TJ Sokol Slavonice\, Rudolecká 285\, Slavonice\, Jihočeský\, 37881\, Czech Republic
CATEGORIES:Fotbal
ORGANIZER;CN="TJ Sokol Slavonice":MAILTO:info@sokolslavonice.cz
END:VEVENT
BEGIN:VEVENT
DTSTART;TZID=UTC:20260530T103000
DTEND;TZID=UTC:20260530T123000
DTSTAMP:20260419T184725
CREATED:20260310T095447Z
LAST-MODIFIED:20260310T095447Z
UID:479-1780137000-1780144200@sokolslavonice.cz
SUMMARY:SK Horní Žďár - TJ Sokol Slavonice
DESCRIPTION:24. kolo\, 7. liga sk. D – Jihočeský kraj \n\nSK Horní Žďár – TJ Sokol Slavonice \n\nSobota 30.05.26 10:30
URL:https://sokolslavonice.cz/akce/sk-horni-zdar-tj-sokol-slavonice/
LOCATION:Venkovní zápas\, Czech Republic
CATEGORIES:Fotbal
END:VEVENT
BEGIN:VEVENT
DTSTART;TZID=UTC:20260606T170000
DTEND;TZID=UTC:20260606T190000
DTSTAMP:20260419T184725
CREATED:20260310T095820Z
LAST-MODIFIED:20260323T125914Z
UID:483-1780765200-1780772400@sokolslavonice.cz
SUMMARY:TJ Sokol Slavonice - FK Studená
DESCRIPTION:25. kolo\, 7. liga sk. D – Jihočeský kraj \n  \nTJ Sokol Slavonice – FK Studená  \n  \nSobota 06.06.26 17:00
URL:https://sokolslavonice.cz/akce/tj-sokol-slavonice-fk-studena/
LOCATION:Hřiště TJ Sokol Slavonice\, Rudolecká 285\, Slavonice\, Jihočeský\, 37881\, Czech Republic
CATEGORIES:Fotbal
ORGANIZER;CN="TJ Sokol Slavonice":MAILTO:info@sokolslavonice.cz
END:VEVENT
BEGIN:VEVENT
DTSTART;TZID=UTC:20260614T150000
DTEND;TZID=UTC:20260614T170000
DTSTAMP:20260419T184725
CREATED:20260310T101352Z
LAST-MODIFIED:20260310T101352Z
UID:487-1781449200-1781456400@sokolslavonice.cz
SUMMARY:FK Třebětice - TJ Sokol Slavonice
DESCRIPTION:26. kolo\, 7. liga sk. D – Jihočeský kraj \n\nFK Sokol Třebětice – TJ Sokol Slavonice \n\nNeděle 14.06.26 15:00
URL:https://sokolslavonice.cz/akce/fk-trebetice-tj-sokol-slavonice/
LOCATION:Venkovní zápas\, Czech Republic
CATEGORIES:Fotbal
END:VEVENT
END:VCALENDAR