BEGIN:VCALENDAR
VERSION:2.0
PRODID:-//TJ Sokol Slavonice - ECPv6.15.20//NONSGML v1.0//EN
CALSCALE:GREGORIAN
METHOD:PUBLISH
X-ORIGINAL-URL:https://sokolslavonice.cz
X-WR-CALDESC:Akce na TJ Sokol Slavonice
REFRESH-INTERVAL;VALUE=DURATION:PT1H
X-Robots-Tag:noindex
X-PUBLISHED-TTL:PT1H
BEGIN:VTIMEZONE
TZID:UTC
BEGIN:STANDARD
TZOFFSETFROM:+0000
TZOFFSETTO:+0000
TZNAME:UTC
DTSTART:20250101T000000
END:STANDARD
END:VTIMEZONE
BEGIN:VEVENT
DTSTART;TZID=UTC:20260411T140000
DTEND;TZID=UTC:20260411T170000
DTSTAMP:20260419T171342
CREATED:20260310T085402Z
LAST-MODIFIED:20260414T140320Z
UID:438-1775916000-1775926800@sokolslavonice.cz
SUMMARY:Slavonice B - Dešná
DESCRIPTION:13. kolo\, 9. liga sk. B – okr. Jindřichův Hradec \n  \nTJ Sokol Slavonice B – Dešná \nSobota 11.04.26 14:00 \n  \nVýsledek: 6:1 (3:0)\n(SL: 2x M. Bodlák\, T. Tepřík\,J. Kosta\, 2x D. Jeroušek\, DE: P. Píša)
URL:https://sokolslavonice.cz/akce/slavonice-b-desna/
LOCATION:Hřiště TJ Sokol Slavonice\, Rudolecká 285\, Slavonice\, Jihočeský\, 37881\, Czech Republic
CATEGORIES:Fotbal
ORGANIZER;CN="TJ Sokol Slavonice":MAILTO:info@sokolslavonice.cz
END:VEVENT
BEGIN:VEVENT
DTSTART;TZID=UTC:20260405T150000
DTEND;TZID=UTC:20260405T170000
DTSTAMP:20260419T171342
CREATED:20260310T085156Z
LAST-MODIFIED:20260407T091419Z
UID:436-1775401200-1775408400@sokolslavonice.cz
SUMMARY:St. Hobzí - Slavonice B
DESCRIPTION:12. kolo\, 9. liga sk. B – okr. Jindřichův Hradec \n  \nSt. Hobzí – TJ Sokol Slavonice B \nNeděle 05.04.26 15:00 \n  \nVýsledek: 1:0 (1:0)\n(SB: Bartušek)
URL:https://sokolslavonice.cz/akce/slavonice-b-st-hobzi/
LOCATION:Venkovní zápas\, Czech Republic
CATEGORIES:Fotbal
END:VEVENT
END:VCALENDAR