BEGIN:VCALENDAR
VERSION:2.0
PRODID:-//TJ Sokol Slavonice - ECPv6.15.20//NONSGML v1.0//EN
CALSCALE:GREGORIAN
METHOD:PUBLISH
X-WR-CALNAME:TJ Sokol Slavonice
X-ORIGINAL-URL:https://sokolslavonice.cz
X-WR-CALDESC:Akce na TJ Sokol Slavonice
REFRESH-INTERVAL;VALUE=DURATION:PT1H
X-Robots-Tag:noindex
X-PUBLISHED-TTL:PT1H
BEGIN:VTIMEZONE
TZID:UTC
BEGIN:STANDARD
TZOFFSETFROM:+0000
TZOFFSETTO:+0000
TZNAME:UTC
DTSTART:20250101T000000
END:STANDARD
END:VTIMEZONE
BEGIN:VEVENT
DTSTART;TZID=UTC:20260411T160000
DTEND;TZID=UTC:20260411T220000
DTSTAMP:20260420T013331
CREATED:20260328T110936Z
LAST-MODIFIED:20260407T092432Z
UID:1257-1775923200-1775944800@sokolslavonice.cz
SUMMARY:Slavonický Trojboj
DESCRIPTION:„Slavonický trojboj 2026“ – XIV. ročník\nInformace \nRegistrace \nVýsledky
URL:https://sokolslavonice.cz/akce/slavonicky-trojboj-5/
LOCATION:Kuželna TJ Sokol Slavonice\, Rudolecká 272\, Slavonice\, Jihočeský\, 37881\, Czech Republic
CATEGORIES:Kuželky
ORGANIZER;CN="Ku%C5%BEelk%C3%A1%C5%99sk%C3%BD odd%C3%ADl":MAILTO:kuzelky@sokolslavonice.cz
END:VEVENT
BEGIN:VEVENT
DTSTART;TZID=UTC:20260411T160000
DTEND;TZID=UTC:20260411T193000
DTSTAMP:20260420T013331
CREATED:20260329T161218Z
LAST-MODIFIED:20260329T161218Z
UID:1286-1775923200-1775935800@sokolslavonice.cz
SUMMARY:Šanov x Slavonice
DESCRIPTION:Kuželky\n3. KLM D 2025/2026 – 21. kolo\nTJ Sokol Šanov x TJ Sokol Slavonice\nOnline výsledky
URL:https://sokolslavonice.cz/akce/sanov-x-slavonice/
LOCATION:Venkovní zápas\, Czech Republic
CATEGORIES:Kuželky
END:VEVENT
BEGIN:VEVENT
DTSTART;TZID=UTC:20260411T130000
DTEND;TZID=UTC:20260411T170000
DTSTAMP:20260420T013331
CREATED:20260408T054127Z
LAST-MODIFIED:20260408T054127Z
UID:1347-1775912400-1775926800@sokolslavonice.cz
SUMMARY:Kunžak x Slavonice B
DESCRIPTION:Kuželky\nJIHOČESKÝ KP1 2025/2026 – 16. kolo\nOnline výsledky\n  \n 
URL:https://sokolslavonice.cz/akce/kunzak-x-slavonice-b/
LOCATION:Venkovní zápas\, Czech Republic
CATEGORIES:Kuželky
END:VEVENT
BEGIN:VEVENT
DTSTART;TZID=UTC:20260410T180000
DTEND;TZID=UTC:20260410T233000
DTSTAMP:20260420T013331
CREATED:20260407T093240Z
LAST-MODIFIED:20260407T093240Z
UID:1345-1775844000-1775863800@sokolslavonice.cz
SUMMARY:Podnikovka - vyhlášení
DESCRIPTION:Výsledky
URL:https://sokolslavonice.cz/akce/podnikovka-vyhlaseni-2/
LOCATION:Kuželna TJ Sokol Slavonice\, Rudolecká 272\, Slavonice\, Jihočeský\, 37881\, Czech Republic
CATEGORIES:Kuželky,Podnikovka
ORGANIZER;CN="Ku%C5%BEelk%C3%A1%C5%99sk%C3%BD odd%C3%ADl":MAILTO:kuzelky@sokolslavonice.cz
END:VEVENT
BEGIN:VEVENT
DTSTART;TZID=UTC:20260409T173000
DTEND;TZID=UTC:20260409T203000
DTSTAMP:20260420T013331
CREATED:20260329T160220Z
LAST-MODIFIED:20260329T160220Z
UID:1277-1775755800-1775766600@sokolslavonice.cz
SUMMARY:Jinřichův Hradec B x Slavonice D
DESCRIPTION:Kuželky\nOP JINDŘICHŮV HRADEC 2025/2026 – 18. kolo\nOnline výsledky
URL:https://sokolslavonice.cz/akce/jinrichuv-hradec-b-x-slavonice-d/
LOCATION:Venkovní zápas\, Czech Republic
CATEGORIES:Kuželky
END:VEVENT
BEGIN:VEVENT
DTSTART;TZID=UTC:20260409T170000
DTEND;TZID=UTC:20260409T213000
DTSTAMP:20260420T013331
CREATED:20260328T110735Z
LAST-MODIFIED:20260407T092450Z
UID:1254-1775754000-1775770200@sokolslavonice.cz
SUMMARY:Slavonický Trojboj
DESCRIPTION:„Slavonický trojboj 2026“ – XIV. ročník\nInformace \nRegistrace \nVýsledky
URL:https://sokolslavonice.cz/akce/1254/
LOCATION:Kuželna TJ Sokol Slavonice\, Rudolecká 272\, Slavonice\, Jihočeský\, 37881\, Czech Republic
CATEGORIES:Kuželky
ORGANIZER;CN="Ku%C5%BEelk%C3%A1%C5%99sk%C3%BD odd%C3%ADl":MAILTO:kuzelky@sokolslavonice.cz
END:VEVENT
BEGIN:VEVENT
DTSTART;TZID=UTC:20260407T170000
DTEND;TZID=UTC:20260407T213000
DTSTAMP:20260420T013331
CREATED:20260328T110649Z
LAST-MODIFIED:20260407T092728Z
UID:1252-1775581200-1775597400@sokolslavonice.cz
SUMMARY:Slavonický Trojboj
DESCRIPTION:„Slavonický trojboj 2026“ – XIV. ročník\nInformace \nRegistrace \nVýsledky
URL:https://sokolslavonice.cz/akce/slavonicky-trojboj-4/
LOCATION:Kuželna TJ Sokol Slavonice\, Rudolecká 272\, Slavonice\, Jihočeský\, 37881\, Czech Republic
CATEGORIES:Kuželky
ORGANIZER;CN="Ku%C5%BEelk%C3%A1%C5%99sk%C3%BD odd%C3%ADl":MAILTO:kuzelky@sokolslavonice.cz
END:VEVENT
BEGIN:VEVENT
DTSTART;TZID=UTC:20260402T170000
DTEND;TZID=UTC:20260402T213000
DTSTAMP:20260420T013331
CREATED:20260328T110519Z
LAST-MODIFIED:20260407T092506Z
UID:1249-1775149200-1775165400@sokolslavonice.cz
SUMMARY:Slavonický Trojboj
DESCRIPTION:„Slavonický trojboj 2026“ – XIV. ročník\nInformace \nRegistrace \nVýsledky
URL:https://sokolslavonice.cz/akce/https-sokol-tode-cz-blog-slavonicky-trojboj-2025-2/
LOCATION:Kuželna TJ Sokol Slavonice\, Rudolecká 272\, Slavonice\, Jihočeský\, 37881\, Czech Republic
CATEGORIES:Kuželky
ORGANIZER;CN="Ku%C5%BEelk%C3%A1%C5%99sk%C3%BD odd%C3%ADl":MAILTO:kuzelky@sokolslavonice.cz
END:VEVENT
BEGIN:VEVENT
DTSTART;TZID=UTC:20260331T170000
DTEND;TZID=UTC:20260331T213000
DTSTAMP:20260420T013331
CREATED:20260328T110330Z
LAST-MODIFIED:20260407T092509Z
UID:1247-1774976400-1774992600@sokolslavonice.cz
SUMMARY:Slavonický Trojboj
DESCRIPTION:„Slavonický trojboj 2026“ – XIV. ročník\nInformace \nRegistrace \nVýsledky
URL:https://sokolslavonice.cz/akce/slavonicky-trojboj-3/
LOCATION:Kuželna TJ Sokol Slavonice\, Rudolecká 272\, Slavonice\, Jihočeský\, 37881\, Czech Republic
CATEGORIES:Kuželky
ORGANIZER;CN="Ku%C5%BEelk%C3%A1%C5%99sk%C3%BD odd%C3%ADl":MAILTO:kuzelky@sokolslavonice.cz
END:VEVENT
BEGIN:VEVENT
DTSTART;TZID=UTC:20260330T190000
DTEND;TZID=UTC:20260330T220000
DTSTAMP:20260420T013331
CREATED:20260327T204136Z
LAST-MODIFIED:20260329T160853Z
UID:922-1774897200-1774908000@sokolslavonice.cz
SUMMARY:Slavonice B x Nová Bystřice
DESCRIPTION:Kuželky\nJIHOČESKÝ KP1 2025/2026 – 21. kolo\nOnline výsledky\n  \n 
URL:https://sokolslavonice.cz/akce/slavonice-b-nova-bystrice/
LOCATION:Kuželna TJ Sokol Slavonice\, Rudolecká 272\, Slavonice\, Jihočeský\, 37881\, Czech Republic
CATEGORIES:Kuželky
ORGANIZER;CN="TJ Sokol Slavonice":MAILTO:info@sokolslavonice.cz
END:VEVENT
BEGIN:VEVENT
DTSTART;TZID=UTC:20260328T170000
DTEND;TZID=UTC:20260328T193000
DTSTAMP:20260420T013331
CREATED:20260328T112044Z
LAST-MODIFIED:20260328T112044Z
UID:1261-1774717200-1774726200@sokolslavonice.cz
SUMMARY:Slavonice x Telnice
DESCRIPTION:Kuželky\n3. KLM D 2025/2026 – 20. kolo\nTJ Sokol Slavonice x KK Orel Telnice\nOnline výsledky
URL:https://sokolslavonice.cz/akce/slavonice-x-telnice/
LOCATION:Kuželna TJ Sokol Slavonice\, Rudolecká 272\, Slavonice\, Jihočeský\, 37881\, Czech Republic
CATEGORIES:Kuželky
ORGANIZER;CN="TJ Sokol Slavonice":MAILTO:info@sokolslavonice.cz
END:VEVENT
BEGIN:VEVENT
DTSTART;TZID=UTC:20260328T160000
DTEND;TZID=UTC:20260328T213000
DTSTAMP:20260420T013331
CREATED:20260328T110144Z
LAST-MODIFIED:20260407T092519Z
UID:1243-1774713600-1774733400@sokolslavonice.cz
SUMMARY:Slavonický Trojboj
DESCRIPTION:„Slavonický trojboj 2026“ – XIV. ročník\nInformace \nRegistrace \nVýsledky
URL:https://sokolslavonice.cz/akce/slavonicky-trojboj-2/
LOCATION:Kuželna TJ Sokol Slavonice\, Rudolecká 272\, Slavonice\, Jihočeský\, 37881\, Czech Republic
CATEGORIES:Kuželky
ORGANIZER;CN="Ku%C5%BEelk%C3%A1%C5%99sk%C3%BD odd%C3%ADl":MAILTO:kuzelky@sokolslavonice.cz
END:VEVENT
BEGIN:VEVENT
DTSTART;TZID=UTC:20260327T173000
DTEND;TZID=UTC:20260327T203000
DTSTAMP:20260420T013331
CREATED:20260327T201803Z
LAST-MODIFIED:20260329T160810Z
UID:914-1774632600-1774643400@sokolslavonice.cz
SUMMARY:Soběslav x Slavonice B
DESCRIPTION:Kuželky\nJIHOČESKÝ KP1 2025/2026 – 20. kolo \nOnline výsledky\n  \n 
URL:https://sokolslavonice.cz/akce/sobeslav-slavonice-b/
LOCATION:Venkovní zápas\, Czech Republic
CATEGORIES:Kuželky
END:VEVENT
BEGIN:VEVENT
DTSTART;TZID=UTC:20260326T170000
DTEND;TZID=UTC:20260326T213000
DTSTAMP:20260420T013331
CREATED:20260328T105635Z
LAST-MODIFIED:20260407T092525Z
UID:1241-1774544400-1774560600@sokolslavonice.cz
SUMMARY:Slavonický Trojboj
DESCRIPTION:„Slavonický trojboj 2026“ – XIV. ročník\nInformace \nRegistrace \nVýsledky
URL:https://sokolslavonice.cz/akce/slavonicky-trojboj/
LOCATION:Kuželna TJ Sokol Slavonice\, Rudolecká 272\, Slavonice\, Jihočeský\, 37881\, Czech Republic
CATEGORIES:Kuželky
ORGANIZER;CN="Ku%C5%BEelk%C3%A1%C5%99sk%C3%BD odd%C3%ADl":MAILTO:kuzelky@sokolslavonice.cz
END:VEVENT
END:VCALENDAR