BEGIN:VCALENDAR
VERSION:2.0
PRODID:-//TJ Sokol Slavonice - ECPv6.15.20//NONSGML v1.0//EN
CALSCALE:GREGORIAN
METHOD:PUBLISH
X-WR-CALNAME:TJ Sokol Slavonice
X-ORIGINAL-URL:https://sokolslavonice.cz
X-WR-CALDESC:Akce na TJ Sokol Slavonice
REFRESH-INTERVAL;VALUE=DURATION:PT1H
X-Robots-Tag:noindex
X-PUBLISHED-TTL:PT1H
BEGIN:VTIMEZONE
TZID:UTC
BEGIN:STANDARD
TZOFFSETFROM:+0000
TZOFFSETTO:+0000
TZNAME:UTC
DTSTART:20250101T000000
END:STANDARD
END:VTIMEZONE
BEGIN:VEVENT
DTSTART;TZID=UTC:20260417T173000
DTEND;TZID=UTC:20260417T203000
DTSTAMP:20260419T182942
CREATED:20260329T160645Z
LAST-MODIFIED:20260329T160720Z
UID:1280-1776447000-1776457800@sokolslavonice.cz
SUMMARY:Nová Včelnice x Slavonice B
DESCRIPTION:Kuželky\nJIHOČESKÝ KP1 2025/2026 – 22. kolo \nOnline výsledky
URL:https://sokolslavonice.cz/akce/nova-vcelnice-x-slavonice-b/
LOCATION:Venkovní zápas\, Czech Republic
CATEGORIES:Kuželky
END:VEVENT
BEGIN:VEVENT
DTSTART;TZID=UTC:20260418T170000
DTEND;TZID=UTC:20260418T200000
DTSTAMP:20260419T182942
CREATED:20260329T161703Z
LAST-MODIFIED:20260329T161703Z
UID:1290-1776531600-1776542400@sokolslavonice.cz
SUMMARY:Slavonice x Dačice C
DESCRIPTION:Kuželky\n3. KLM D 2025/2026 – 22. kolo\nTJ Sokol Slavonice x TJ Centropen Dačice C\nOnline výsledky
URL:https://sokolslavonice.cz/akce/slavonice-x-dacice-c/
LOCATION:Kuželna TJ Sokol Slavonice\, Rudolecká 272\, Slavonice\, Jihočeský\, 37881\, Czech Republic
CATEGORIES:Kuželky
ORGANIZER;CN="TJ Sokol Slavonice":MAILTO:info@sokolslavonice.cz
END:VEVENT
END:VCALENDAR