BEGIN:VCALENDAR
VERSION:2.0
PRODID:-//TJ Sokol Slavonice - ECPv6.15.20//NONSGML v1.0//EN
CALSCALE:GREGORIAN
METHOD:PUBLISH
X-WR-CALNAME:TJ Sokol Slavonice
X-ORIGINAL-URL:https://sokolslavonice.cz
X-WR-CALDESC:Akce na TJ Sokol Slavonice
REFRESH-INTERVAL;VALUE=DURATION:PT1H
X-Robots-Tag:noindex
X-PUBLISHED-TTL:PT1H
BEGIN:VTIMEZONE
TZID:UTC
BEGIN:STANDARD
TZOFFSETFROM:+0000
TZOFFSETTO:+0000
TZNAME:UTC
DTSTART:20250101T000000
END:STANDARD
END:VTIMEZONE
BEGIN:VEVENT
DTSTART;TZID=UTC:20260415T163000
DTEND;TZID=UTC:20260415T183000
DTSTAMP:20260420T024259
CREATED:20260310T124741Z
LAST-MODIFIED:20260312T105425Z
UID:507-1776270600-1776277800@sokolslavonice.cz
SUMMARY:FC Peč/Volfířov U13 - Slavonice U13
DESCRIPTION:10. kolo\, 5. liga U13 sk. B – okr. Jindřichův Hradec \nFC Peč/Volfířov U13 – Slavonice U13\n \nHřiště Peč \nStředa 15.04.26 16:30
URL:https://sokolslavonice.cz/akce/fc-pec-volfirov-u13-slavonice-u13/
LOCATION:Venkovní zápas\, Czech Republic
CATEGORIES:Fotbal
END:VEVENT
BEGIN:VEVENT
DTSTART;TZID=UTC:20260415T163000
DTEND;TZID=UTC:20260415T183000
DTSTAMP:20260420T024259
CREATED:20260310T151744Z
LAST-MODIFIED:20260312T105338Z
UID:524-1776270600-1776277800@sokolslavonice.cz
SUMMARY:Slavonice U9 -  Cizkrajov/Peč U9
DESCRIPTION:7. kolo\, OP mladší přípravka – okr. Jindřichův Hradec \nSlavonice U9 – Cizkrajov/Peč U9 \nStředa 15.04.26 16:30
URL:https://sokolslavonice.cz/akce/slavonice-u9-cizkrajov-pec-u9/
LOCATION:Hřiště TJ Sokol Slavonice\, Rudolecká 285\, Slavonice\, Jihočeský\, 37881\, Czech Republic
CATEGORIES:Fotbal
ORGANIZER;CN="TJ Sokol Slavonice":MAILTO:info@sokolslavonice.cz
END:VEVENT
END:VCALENDAR