BEGIN:VCALENDAR
VERSION:2.0
PRODID:-//TJ Sokol Slavonice - ECPv6.15.20//NONSGML v1.0//EN
CALSCALE:GREGORIAN
METHOD:PUBLISH
X-ORIGINAL-URL:https://sokolslavonice.cz
X-WR-CALDESC:Akce na TJ Sokol Slavonice
REFRESH-INTERVAL;VALUE=DURATION:PT1H
X-Robots-Tag:noindex
X-PUBLISHED-TTL:PT1H
BEGIN:VTIMEZONE
TZID:UTC
BEGIN:STANDARD
TZOFFSETFROM:+0000
TZOFFSETTO:+0000
TZNAME:UTC
DTSTART:20250101T000000
END:STANDARD
END:VTIMEZONE
BEGIN:VEVENT
DTSTART;TZID=UTC:20260411T103000
DTEND;TZID=UTC:20260411T123000
DTSTAMP:20260419T182926
CREATED:20260316T114342Z
LAST-MODIFIED:20260316T114342Z
UID:681-1775903400-1775910600@sokolslavonice.cz
SUMMARY:Slavonice U11 - 8. kolo
DESCRIPTION:8. kolo\, OP starší přípravka sk. A – okr. Jindřichův Hradec – Hřiště Nová Včelnice \n  \nKardašova Řečice U11 – Slavonice U11\n \nSobota 11.04.26 10:45 \nNová Včelnice U11 – Slavonice U11\n \nSobota 11.04.26 11:30 \n  \nHřiště Nová Včelnice \n 
URL:https://sokolslavonice.cz/akce/slavonice-u11-8-kolo/
LOCATION:Venkovní zápas\, Czech Republic
CATEGORIES:Fotbal
END:VEVENT
BEGIN:VEVENT
DTSTART;TZID=UTC:20260412T100000
DTEND;TZID=UTC:20260412T120000
DTSTAMP:20260419T182926
CREATED:20260310T125057Z
LAST-MODIFIED:20260414T135751Z
UID:509-1775988000-1775995200@sokolslavonice.cz
SUMMARY:Slavonice U13 - Třebětice U13
DESCRIPTION:11. kolo\, 5. liga U13 sk. B – okr. Jindřichův Hradec \nSlavonice U13 – Třebětice U13\n \nNeděle 12.04.26 10:00
URL:https://sokolslavonice.cz/akce/slavonice-u13-trebetice-u13/
LOCATION:Hřiště TJ Sokol Slavonice\, Rudolecká 285\, Slavonice\, Jihočeský\, 37881\, Czech Republic
CATEGORIES:Fotbal
ORGANIZER;CN="TJ Sokol Slavonice":MAILTO:info@sokolslavonice.cz
END:VEVENT
BEGIN:VEVENT
DTSTART;TZID=UTC:20260415T163000
DTEND;TZID=UTC:20260415T183000
DTSTAMP:20260419T182926
CREATED:20260310T124741Z
LAST-MODIFIED:20260312T105425Z
UID:507-1776270600-1776277800@sokolslavonice.cz
SUMMARY:FC Peč/Volfířov U13 - Slavonice U13
DESCRIPTION:10. kolo\, 5. liga U13 sk. B – okr. Jindřichův Hradec \nFC Peč/Volfířov U13 – Slavonice U13\n \nHřiště Peč \nStředa 15.04.26 16:30
URL:https://sokolslavonice.cz/akce/fc-pec-volfirov-u13-slavonice-u13/
LOCATION:Venkovní zápas\, Czech Republic
CATEGORIES:Fotbal
END:VEVENT
BEGIN:VEVENT
DTSTART;TZID=UTC:20260415T163000
DTEND;TZID=UTC:20260415T183000
DTSTAMP:20260419T182926
CREATED:20260310T151744Z
LAST-MODIFIED:20260312T105338Z
UID:524-1776270600-1776277800@sokolslavonice.cz
SUMMARY:Slavonice U9 -  Cizkrajov/Peč U9
DESCRIPTION:7. kolo\, OP mladší přípravka – okr. Jindřichův Hradec \nSlavonice U9 – Cizkrajov/Peč U9 \nStředa 15.04.26 16:30
URL:https://sokolslavonice.cz/akce/slavonice-u9-cizkrajov-pec-u9/
LOCATION:Hřiště TJ Sokol Slavonice\, Rudolecká 285\, Slavonice\, Jihočeský\, 37881\, Czech Republic
CATEGORIES:Fotbal
ORGANIZER;CN="TJ Sokol Slavonice":MAILTO:info@sokolslavonice.cz
END:VEVENT
BEGIN:VEVENT
DTSTART;TZID=UTC:20260418T100000
DTEND;TZID=UTC:20260418T120000
DTSTAMP:20260419T182926
CREATED:20260416T142652Z
LAST-MODIFIED:20260416T143139Z
UID:1370-1776506400-1776513600@sokolslavonice.cz
SUMMARY:Kunžak/Slavonice U15 - Kardašova Řečice U15
DESCRIPTION:U15\, 1. kolo\, 5. liga  o 1. – 4. místo – okr. Jindřichův Hradec \n\nKunžak/Slavonice U15 – Kardašova Řečice U15\n \nHřiště Kunžak \nSobota 18.04.26 10:00 \n 
URL:https://sokolslavonice.cz/akce/kunzak-slavonice-u15-kardasova-recice-u15/
LOCATION:Venkovní zápas\, Czech Republic
CATEGORIES:Fotbal
ORGANIZER;CN="TJ Sokol Slavonice":MAILTO:info@sokolslavonice.cz
END:VEVENT
BEGIN:VEVENT
DTSTART;TZID=UTC:20260418T133000
DTEND;TZID=UTC:20260418T150000
DTSTAMP:20260419T182926
CREATED:20260310T152525Z
LAST-MODIFIED:20260312T105338Z
UID:526-1776519000-1776524400@sokolslavonice.cz
SUMMARY:Slavonice U9 - 8. kolo
DESCRIPTION:8. kolo\, OP mladší přípravka – okr. Jindřichův Hradec – Hřiště Dačice \nFK Dačice U9 – Slavonice U9 \nSobota 18.04.26 13:30 \nSlavonice U9 – Žďár/Lásenice U9 \nSobota 18.04.26 14:00\n \nFK Studená U9 – Slavonice U9 \nSobota 18.04.26 14:30 \nHřiště Dačice \n 
URL:https://sokolslavonice.cz/akce/slavonice-u9-8-kolo/
LOCATION:Venkovní zápas\, Czech Republic
CATEGORIES:Fotbal
END:VEVENT
BEGIN:VEVENT
DTSTART;TZID=UTC:20260419T100000
DTEND;TZID=UTC:20260419T120000
DTSTAMP:20260419T182926
CREATED:20260310T144123Z
LAST-MODIFIED:20260312T105425Z
UID:513-1776592800-1776600000@sokolslavonice.cz
SUMMARY:Slavonice U13 - Strmilov/Studená U13
DESCRIPTION:13. kolo\, 5. liga U13 sk. B – okr. Jindřichův Hradec \nSlavonice U13 – Strmilov/Studená U13\n \nNeděle 19.04.26 10:00
URL:https://sokolslavonice.cz/akce/slavonice-u13-strmilov-studena-u13/
LOCATION:Hřiště TJ Sokol Slavonice\, Rudolecká 285\, Slavonice\, Jihočeský\, 37881\, Czech Republic
CATEGORIES:Fotbal
ORGANIZER;CN="TJ Sokol Slavonice":MAILTO:info@sokolslavonice.cz
END:VEVENT
BEGIN:VEVENT
DTSTART;TZID=UTC:20260420T170000
DTEND;TZID=UTC:20260420T180000
DTSTAMP:20260419T182926
CREATED:20260316T114706Z
LAST-MODIFIED:20260316T114706Z
UID:684-1776704400-1776708000@sokolslavonice.cz
SUMMARY:FK Dačice U11 - Slavonice U11
DESCRIPTION:9. kolo\, OP starší přípravka sk. A – okr. Jindřichův Hradec – Hřiště Dačice \n\nFK Dačice U11 – Slavonice U11\n \nPondělí 20.04.26 17:00 \nHřiště Dačice \n 
URL:https://sokolslavonice.cz/akce/fk-dacice-u11-slavonice-u11/
LOCATION:Venkovní zápas\, Czech Republic
CATEGORIES:Fotbal
END:VEVENT
BEGIN:VEVENT
DTSTART;TZID=UTC:20260425T100000
DTEND;TZID=UTC:20260425T120000
DTSTAMP:20260419T182926
CREATED:20260310T144510Z
LAST-MODIFIED:20260312T105425Z
UID:516-1777111200-1777118400@sokolslavonice.cz
SUMMARY:Jarošov U13 - Slavonice U13
DESCRIPTION:14. kolo\, 5. liga U13 sk. B – okr. Jindřichův Hradec \nJarošov U13 – Slavonice U13\n \nHřiště Jarošov nad Nežárkou  \nStředa 25.04.26 10:00
URL:https://sokolslavonice.cz/akce/jarosov-u13-slavonice-u13/
LOCATION:Venkovní zápas\, Czech Republic
CATEGORIES:Fotbal
END:VEVENT
BEGIN:VEVENT
DTSTART;TZID=UTC:20260426T100000
DTEND;TZID=UTC:20260426T113000
DTSTAMP:20260419T182926
CREATED:20260316T115044Z
LAST-MODIFIED:20260316T115044Z
UID:686-1777197600-1777203000@sokolslavonice.cz
SUMMARY:Slavonice U11 - 10. kolo
DESCRIPTION:10. kolo\, OP starší přípravka sk. A – okr. Jindřichův Hradec – Hřiště Kunžak \n\nKunžak U11 – Slavonice U11\n \nNeděle 26.04.26 10:00 \nSlavonice U11 – Deštná U11\n \nNeděle 26.04.26 10:45 \n  \nHřiště Kunžak \n 
URL:https://sokolslavonice.cz/akce/slavonice-u11-10-kolo/
LOCATION:Venkovní zápas\, Czech Republic
CATEGORIES:Fotbal
END:VEVENT
BEGIN:VEVENT
DTSTART;TZID=UTC:20260426T100000
DTEND;TZID=UTC:20260426T120000
DTSTAMP:20260419T182926
CREATED:20260312T104556Z
LAST-MODIFIED:20260312T104959Z
UID:539-1777197600-1777204800@sokolslavonice.cz
SUMMARY:Třebětice U8 - Slavonice U8
DESCRIPTION:4. kolo\, OP U8 sk. B – okr. Jindřichův Hradec – Hřiště Třebětice \nTřebětice U8 – Slavonice U8 \nHřiště Třebětice \nNeděle 26.04.26 10:00
URL:https://sokolslavonice.cz/akce/trebetice-u8-slavonice-u8/
LOCATION:Venkovní zápas\, Czech Republic
CATEGORIES:Fotbal
END:VEVENT
BEGIN:VEVENT
DTSTART;TZID=UTC:20260426T100000
DTEND;TZID=UTC:20260426T120000
DTSTAMP:20260419T182926
CREATED:20260416T143040Z
LAST-MODIFIED:20260416T143040Z
UID:1372-1777197600-1777204800@sokolslavonice.cz
SUMMARY:Lomnice U15 - Kunžak/Slavonice U15
DESCRIPTION:U15\, 2. kolo\, 5. liga o 1. – 4. místo – okr. Jindřichův Hradec \n  \nLomnice nad Lužnicí U15 – Kunžak/Slavonice U15\n \nHřiště Lomnice \nNeděle 26.04.26 10:00
URL:https://sokolslavonice.cz/akce/lomnice-u15-kunzak-slavonice-u15/
LOCATION:Venkovní zápas\, Czech Republic
CATEGORIES:Fotbal
END:VEVENT
BEGIN:VEVENT
DTSTART;TZID=UTC:20260429T170000
DTEND;TZID=UTC:20260429T180000
DTSTAMP:20260419T182926
CREATED:20260310T154106Z
LAST-MODIFIED:20260312T105338Z
UID:529-1777482000-1777485600@sokolslavonice.cz
SUMMARY:Slavonice U9 - Třebětice U9
DESCRIPTION:9. kolo\, OP mladší přípravka – okr. Jindřichův Hradec \nSlavonice U9 – Třebětice U9 \nStředa 29.04.26 17:00
URL:https://sokolslavonice.cz/akce/slavonice-u9-trebetice-u9/
LOCATION:Hřiště TJ Sokol Slavonice\, Rudolecká 285\, Slavonice\, Jihočeský\, 37881\, Czech Republic
CATEGORIES:Fotbal
ORGANIZER;CN="TJ Sokol Slavonice":MAILTO:info@sokolslavonice.cz
END:VEVENT
BEGIN:VEVENT
DTSTART;TZID=UTC:20260502T100000
DTEND;TZID=UTC:20260502T113000
DTSTAMP:20260419T182926
CREATED:20260310T154556Z
LAST-MODIFIED:20260312T105338Z
UID:531-1777716000-1777721400@sokolslavonice.cz
SUMMARY:Slavonice U9 - 10. kolo
DESCRIPTION:10. kolo\, OP mladší přípravka – okr. Jindřichův Hradec – Hřiště Slavonice \nSlavonice U9 – Třebětice U9 \nSobota 02.05.26 10:00 \nSlavonice U9 – Strmilov U9 \nSobota 02.05.26 10:30\n \nSlavonice U9 – FK Dačice U9 \nSobota 02.05.26 11:00
URL:https://sokolslavonice.cz/akce/slavonice-u9-10-kolo/
LOCATION:Hřiště TJ Sokol Slavonice\, Rudolecká 285\, Slavonice\, Jihočeský\, 37881\, Czech Republic
CATEGORIES:Fotbal
ORGANIZER;CN="TJ Sokol Slavonice":MAILTO:info@sokolslavonice.cz
END:VEVENT
BEGIN:VEVENT
DTSTART;TZID=UTC:20260503T100000
DTEND;TZID=UTC:20260503T120000
DTSTAMP:20260419T182926
CREATED:20260310T145337Z
LAST-MODIFIED:20260312T105425Z
UID:518-1777802400-1777809600@sokolslavonice.cz
SUMMARY:Slavonice U13 - FK Dačice B U13
DESCRIPTION:15. kolo\, 5. liga U13 sk. B – okr. Jindřichův Hradec \nSlavonice U13 – FK Dačice B U13\n \nNeděle 03.05.26 10:00
URL:https://sokolslavonice.cz/akce/slavonice-u13-fk-dacice-b-u13/
LOCATION:Hřiště TJ Sokol Slavonice\, Rudolecká 285\, Slavonice\, Jihočeský\, 37881\, Czech Republic
CATEGORIES:Fotbal
ORGANIZER;CN="TJ Sokol Slavonice":MAILTO:info@sokolslavonice.cz
END:VEVENT
BEGIN:VEVENT
DTSTART;TZID=UTC:20260508T100000
DTEND;TZID=UTC:20260508T120000
DTSTAMP:20260419T182926
CREATED:20260416T143326Z
LAST-MODIFIED:20260416T143501Z
UID:1374-1778234400-1778241600@sokolslavonice.cz
SUMMARY:Kunžak/Slavonice U15 - Bystřice/Dačice B U15
DESCRIPTION:U15\, 3. kolo\, 5. liga  o 1. – 4. místo – okr. Jindřichův Hradec \n\nKunžak/Slavonice U15 – Nová Bystřice/Dačice B U15 \nPátek 08.05.26 10:00
URL:https://sokolslavonice.cz/akce/kunzak-slavonice-u15-bystrice-dacice-b-u15/
LOCATION:Hřiště TJ Sokol Slavonice\, Rudolecká 285\, Slavonice\, Jihočeský\, 37881\, Czech Republic
CATEGORIES:Fotbal
ORGANIZER;CN="TJ Sokol Slavonice":MAILTO:info@sokolslavonice.cz
END:VEVENT
BEGIN:VEVENT
DTSTART;TZID=UTC:20260509T100000
DTEND;TZID=UTC:20260509T113000
DTSTAMP:20260419T182926
CREATED:20260316T123103Z
LAST-MODIFIED:20260316T123103Z
UID:688-1778320800-1778326200@sokolslavonice.cz
SUMMARY:Slavonice U11 - 12. kolo
DESCRIPTION:12. kolo\, OP starší přípravka sk. A – okr. Jindřichův Hradec – Hřiště Studená \n\nStudená U11 – Slavonice U11\n \nSobota 09.05.26 10:00 \nSlavonice U11 – Lomnice nad Lužnicí U11\n \nSobota 09.05.26 10:45 \n  \nHřiště Studená \n 
URL:https://sokolslavonice.cz/akce/slavonice-u11-12-kolo/
LOCATION:Venkovní zápas\, Czech Republic
CATEGORIES:Fotbal
END:VEVENT
BEGIN:VEVENT
DTSTART;TZID=UTC:20260510T100000
DTEND;TZID=UTC:20260510T120000
DTSTAMP:20260419T182926
CREATED:20260312T104729Z
LAST-MODIFIED:20260312T104929Z
UID:541-1778407200-1778414400@sokolslavonice.cz
SUMMARY:Slavonice U8 - Číměř U8
DESCRIPTION:5. kolo\, OP U8 sk. B – okr. Jindřichův Hradec – Hřiště Cizkrajov \nSlavonice U8 – Číměř U8 \nHřiště Cizkrajov \nNeděle 10.05.26 10:00
URL:https://sokolslavonice.cz/akce/slavonice-u8-cimer-u8/
LOCATION:Venkovní zápas\, Czech Republic
CATEGORIES:Fotbal
END:VEVENT
BEGIN:VEVENT
DTSTART;TZID=UTC:20260510T100000
DTEND;TZID=UTC:20260510T120000
DTSTAMP:20260419T182926
CREATED:20260416T143657Z
LAST-MODIFIED:20260416T143657Z
UID:1378-1778407200-1778414400@sokolslavonice.cz
SUMMARY:Kardašova Řečice U15 - Kunžak/Slavonice U15
DESCRIPTION:U15\, 4. kolo\, 5. liga o 1. – 4. místo – okr. Jindřichův Hradec \n  \nKardašova Řečice U15 – Kunžak/Slavonice U15\n \nHřiště K. Řečice \nNeděle 10.05.26 10:00
URL:https://sokolslavonice.cz/akce/kardasova-recice-u15-kunzak-slavonice-u15/
LOCATION:Venkovní zápas\, Czech Republic
CATEGORIES:Fotbal
END:VEVENT
BEGIN:VEVENT
DTSTART;TZID=UTC:20260513T170000
DTEND;TZID=UTC:20260513T180000
DTSTAMP:20260419T182926
CREATED:20260310T155339Z
LAST-MODIFIED:20260312T105338Z
UID:533-1778691600-1778695200@sokolslavonice.cz
SUMMARY:Cizkrajov/Peč U9 - Slavonice U9
DESCRIPTION:11. kolo\, OP mladší přípravka – okr. Jindřichův Hradec – Hřiště Cizkrajov \nCizkrajov/Peč U9 – Slavonice U9 \nStředa 13.05.26 17:00 \nHřiště Cizkrajov \n 
URL:https://sokolslavonice.cz/akce/cizkrajov-pec-u9-slavonice-u9/
LOCATION:Venkovní zápas\, Czech Republic
CATEGORIES:Fotbal
END:VEVENT
BEGIN:VEVENT
DTSTART;TZID=UTC:20260516T100000
DTEND;TZID=UTC:20260516T120000
DTSTAMP:20260419T182926
CREATED:20260310T160026Z
LAST-MODIFIED:20260312T105338Z
UID:537-1778925600-1778932800@sokolslavonice.cz
SUMMARY:Slavonice U9 - 12. kolo
DESCRIPTION:12. kolo\, OP mladší přípravka – okr. Jindřichův Hradec – Hřiště Studená \nFK Studená U9 – Slavonice U9 \nSobota 16.05.26 10:00 \nSlavonice U9 – Nová Bystřice U9 \nSobota 16.05.26 10:30\n \nTřebětice U9 – Slavonice U9 \nSobota 16.05.26 11:00 \nHřiště Studená \n 
URL:https://sokolslavonice.cz/akce/slavonice-u9-12-kolo/
LOCATION:Venkovní zápas\, Czech Republic
CATEGORIES:Fotbal
END:VEVENT
BEGIN:VEVENT
DTSTART;TZID=UTC:20260517T100000
DTEND;TZID=UTC:20260517T120000
DTSTAMP:20260419T182926
CREATED:20260310T151034Z
LAST-MODIFIED:20260312T105425Z
UID:520-1779012000-1779019200@sokolslavonice.cz
SUMMARY:Kunžak U13 - Slavonice U13
DESCRIPTION:16. kolo\, 5. liga U13 sk. B – okr. Jindřichův Hradec \nKunžak U13 – Slavonice U13\n \nHřiště Kunžak \nNeděle 17.05.26 10:00
URL:https://sokolslavonice.cz/akce/kunzak-u13-slavonice-u13/
LOCATION:Venkovní zápas\, Czech Republic
CATEGORIES:Fotbal
END:VEVENT
BEGIN:VEVENT
DTSTART;TZID=UTC:20260520T170000
DTEND;TZID=UTC:20260520T180000
DTSTAMP:20260419T182926
CREATED:20260316T123428Z
LAST-MODIFIED:20260316T123428Z
UID:690-1779296400-1779300000@sokolslavonice.cz
SUMMARY:Slavonice U11 - Kunžak U11
DESCRIPTION:13. kolo\, OP starší přípravka sk. A – okr. Jindřichův Hradec \n\nSlavonice U11 – Kunžak U11\n \nStředa 20.05.26 17:00
URL:https://sokolslavonice.cz/akce/slavonice-u11-kunzak-u11/
LOCATION:Hřiště TJ Sokol Slavonice\, Rudolecká 285\, Slavonice\, Jihočeský\, 37881\, Czech Republic
CATEGORIES:Fotbal
ORGANIZER;CN="TJ Sokol Slavonice":MAILTO:info@sokolslavonice.cz
END:VEVENT
BEGIN:VEVENT
DTSTART;TZID=UTC:20260523T100000
DTEND;TZID=UTC:20260523T123000
DTSTAMP:20260419T182926
CREATED:20260316T123702Z
LAST-MODIFIED:20260316T123718Z
UID:692-1779530400-1779539400@sokolslavonice.cz
SUMMARY:Slavonice U11 - 14. kolo
DESCRIPTION:14. kolo\, OP starší přípravka sk. A – okr. Jindřichův Hradec \n\nSlavonice U11 – Suchdol nad Lužnicí A U11\n \nSobota 23.05.26 10:00 \nSlavonice U11 – Suchdol nad Lužnicí B U11 \nSobota 23.05.26 11:30
URL:https://sokolslavonice.cz/akce/692/
LOCATION:Hřiště TJ Sokol Slavonice\, Rudolecká 285\, Slavonice\, Jihočeský\, 37881\, Czech Republic
CATEGORIES:Fotbal
ORGANIZER;CN="TJ Sokol Slavonice":MAILTO:info@sokolslavonice.cz
END:VEVENT
BEGIN:VEVENT
DTSTART;TZID=UTC:20260524T100000
DTEND;TZID=UTC:20260524T120000
DTSTAMP:20260419T182926
CREATED:20260416T144008Z
LAST-MODIFIED:20260416T144008Z
UID:1380-1779616800-1779624000@sokolslavonice.cz
SUMMARY:Kunžak/Slavonice U15 - Lomnice U15
DESCRIPTION:U15\, 5. kolo\, 5. liga  o 1. – 4. místo – okr. Jindřichův Hradec \n\nKunžak/Slavonice U15 – Lomnice nad Lužnicí U15 \nHřiště Kunžak \nNeděle 24.05.26 10:00
URL:https://sokolslavonice.cz/akce/kunzak-slavonice-u15-lomnice-u15/
LOCATION:Venkovní zápas\, Czech Republic
CATEGORIES:Fotbal
ORGANIZER;CN="TJ Sokol Slavonice":MAILTO:info@sokolslavonice.cz
END:VEVENT
BEGIN:VEVENT
DTSTART;TZID=UTC:20260527T170000
DTEND;TZID=UTC:20260527T190000
DTSTAMP:20260419T182926
CREATED:20260310T151311Z
LAST-MODIFIED:20260312T105425Z
UID:522-1779901200-1779908400@sokolslavonice.cz
SUMMARY:Slavonice U13 - Dačice B U13
DESCRIPTION:17. kolo\, 5. liga U13 sk. B – okr. Jindřichův Hradec \nSlavonice U13 – FK Dačice B U13\n \nStředa 27.05.26 17:00
URL:https://sokolslavonice.cz/akce/slavonice-u13-dacice-b-u13/
LOCATION:Hřiště TJ Sokol Slavonice\, Rudolecká 285\, Slavonice\, Jihočeský\, 37881\, Czech Republic
CATEGORIES:Fotbal
ORGANIZER;CN="TJ Sokol Slavonice":MAILTO:info@sokolslavonice.cz
END:VEVENT
BEGIN:VEVENT
DTSTART;TZID=UTC:20260607T100000
DTEND;TZID=UTC:20260607T120000
DTSTAMP:20260419T182926
CREATED:20260312T105230Z
LAST-MODIFIED:20260312T105230Z
UID:546-1780826400-1780833600@sokolslavonice.cz
SUMMARY:Strmilov U8 - Slavonice U8
DESCRIPTION:6. kolo\, OP U8 sk. B – okr. Jindřichův Hradec – Hřiště Nová Bystřice \nStrmilov U8 – Slavonice U8 \nHřiště Nová Bystřice \nNeděle 07.06.26 10:00
URL:https://sokolslavonice.cz/akce/strmilov-u8-slavonice-u8/
LOCATION:Venkovní zápas\, Czech Republic
CATEGORIES:Fotbal
END:VEVENT
BEGIN:VEVENT
DTSTART;TZID=UTC:20260607T100000
DTEND;TZID=UTC:20260607T120000
DTSTAMP:20260419T182926
CREATED:20260416T144229Z
LAST-MODIFIED:20260416T144229Z
UID:1383-1780826400-1780833600@sokolslavonice.cz
SUMMARY:Bystřice/Dačice B U15 - Kunžak/Slavonice U15
DESCRIPTION:U15\, 6. kolo\, 5. liga o 1. – 4. místo – okr. Jindřichův Hradec \n  \nNová Bystřice/Dačice B U15 – Kunžak/Slavonice U15\n \nHřiště N. Bystřice \nNeděle 07.06.26 10:00
URL:https://sokolslavonice.cz/akce/bystrice-dacice-b-u15-kunzak-slavonice-u15/
LOCATION:Venkovní zápas\, Czech Republic
CATEGORIES:Fotbal
END:VEVENT
END:VCALENDAR