BEGIN:VCALENDAR
VERSION:2.0
PRODID:-//TJ Sokol Slavonice - ECPv6.15.20//NONSGML v1.0//EN
CALSCALE:GREGORIAN
METHOD:PUBLISH
X-ORIGINAL-URL:https://sokolslavonice.cz
X-WR-CALDESC:Akce na TJ Sokol Slavonice
REFRESH-INTERVAL;VALUE=DURATION:PT1H
X-Robots-Tag:noindex
X-PUBLISHED-TTL:PT1H
BEGIN:VTIMEZONE
TZID:UTC
BEGIN:STANDARD
TZOFFSETFROM:+0000
TZOFFSETTO:+0000
TZNAME:UTC
DTSTART:20250101T000000
END:STANDARD
END:VTIMEZONE
BEGIN:VEVENT
DTSTART;TZID=UTC:20260411T103000
DTEND;TZID=UTC:20260411T123000
DTSTAMP:20260420T030638
CREATED:20260316T114342Z
LAST-MODIFIED:20260316T114342Z
UID:681-1775903400-1775910600@sokolslavonice.cz
SUMMARY:Slavonice U11 - 8. kolo
DESCRIPTION:8. kolo\, OP starší přípravka sk. A – okr. Jindřichův Hradec – Hřiště Nová Včelnice \n  \nKardašova Řečice U11 – Slavonice U11\n \nSobota 11.04.26 10:45 \nNová Včelnice U11 – Slavonice U11\n \nSobota 11.04.26 11:30 \n  \nHřiště Nová Včelnice \n 
URL:https://sokolslavonice.cz/akce/slavonice-u11-8-kolo/
LOCATION:Venkovní zápas\, Czech Republic
CATEGORIES:Fotbal
END:VEVENT
BEGIN:VEVENT
DTSTART;TZID=UTC:20260420T170000
DTEND;TZID=UTC:20260420T180000
DTSTAMP:20260420T030638
CREATED:20260316T114706Z
LAST-MODIFIED:20260316T114706Z
UID:684-1776704400-1776708000@sokolslavonice.cz
SUMMARY:FK Dačice U11 - Slavonice U11
DESCRIPTION:9. kolo\, OP starší přípravka sk. A – okr. Jindřichův Hradec – Hřiště Dačice \n\nFK Dačice U11 – Slavonice U11\n \nPondělí 20.04.26 17:00 \nHřiště Dačice \n 
URL:https://sokolslavonice.cz/akce/fk-dacice-u11-slavonice-u11/
LOCATION:Venkovní zápas\, Czech Republic
CATEGORIES:Fotbal
END:VEVENT
BEGIN:VEVENT
DTSTART;TZID=UTC:20260426T100000
DTEND;TZID=UTC:20260426T113000
DTSTAMP:20260420T030638
CREATED:20260316T115044Z
LAST-MODIFIED:20260316T115044Z
UID:686-1777197600-1777203000@sokolslavonice.cz
SUMMARY:Slavonice U11 - 10. kolo
DESCRIPTION:10. kolo\, OP starší přípravka sk. A – okr. Jindřichův Hradec – Hřiště Kunžak \n\nKunžak U11 – Slavonice U11\n \nNeděle 26.04.26 10:00 \nSlavonice U11 – Deštná U11\n \nNeděle 26.04.26 10:45 \n  \nHřiště Kunžak \n 
URL:https://sokolslavonice.cz/akce/slavonice-u11-10-kolo/
LOCATION:Venkovní zápas\, Czech Republic
CATEGORIES:Fotbal
END:VEVENT
BEGIN:VEVENT
DTSTART;TZID=UTC:20260509T100000
DTEND;TZID=UTC:20260509T113000
DTSTAMP:20260420T030638
CREATED:20260316T123103Z
LAST-MODIFIED:20260316T123103Z
UID:688-1778320800-1778326200@sokolslavonice.cz
SUMMARY:Slavonice U11 - 12. kolo
DESCRIPTION:12. kolo\, OP starší přípravka sk. A – okr. Jindřichův Hradec – Hřiště Studená \n\nStudená U11 – Slavonice U11\n \nSobota 09.05.26 10:00 \nSlavonice U11 – Lomnice nad Lužnicí U11\n \nSobota 09.05.26 10:45 \n  \nHřiště Studená \n 
URL:https://sokolslavonice.cz/akce/slavonice-u11-12-kolo/
LOCATION:Venkovní zápas\, Czech Republic
CATEGORIES:Fotbal
END:VEVENT
BEGIN:VEVENT
DTSTART;TZID=UTC:20260520T170000
DTEND;TZID=UTC:20260520T180000
DTSTAMP:20260420T030638
CREATED:20260316T123428Z
LAST-MODIFIED:20260316T123428Z
UID:690-1779296400-1779300000@sokolslavonice.cz
SUMMARY:Slavonice U11 - Kunžak U11
DESCRIPTION:13. kolo\, OP starší přípravka sk. A – okr. Jindřichův Hradec \n\nSlavonice U11 – Kunžak U11\n \nStředa 20.05.26 17:00
URL:https://sokolslavonice.cz/akce/slavonice-u11-kunzak-u11/
LOCATION:Hřiště TJ Sokol Slavonice\, Rudolecká 285\, Slavonice\, Jihočeský\, 37881\, Czech Republic
CATEGORIES:Fotbal
ORGANIZER;CN="TJ Sokol Slavonice":MAILTO:info@sokolslavonice.cz
END:VEVENT
BEGIN:VEVENT
DTSTART;TZID=UTC:20260523T100000
DTEND;TZID=UTC:20260523T123000
DTSTAMP:20260420T030638
CREATED:20260316T123702Z
LAST-MODIFIED:20260316T123718Z
UID:692-1779530400-1779539400@sokolslavonice.cz
SUMMARY:Slavonice U11 - 14. kolo
DESCRIPTION:14. kolo\, OP starší přípravka sk. A – okr. Jindřichův Hradec \n\nSlavonice U11 – Suchdol nad Lužnicí A U11\n \nSobota 23.05.26 10:00 \nSlavonice U11 – Suchdol nad Lužnicí B U11 \nSobota 23.05.26 11:30
URL:https://sokolslavonice.cz/akce/692/
LOCATION:Hřiště TJ Sokol Slavonice\, Rudolecká 285\, Slavonice\, Jihočeský\, 37881\, Czech Republic
CATEGORIES:Fotbal
ORGANIZER;CN="TJ Sokol Slavonice":MAILTO:info@sokolslavonice.cz
END:VEVENT
END:VCALENDAR