BEGIN:VCALENDAR
VERSION:2.0
PRODID:-//TJ Sokol Slavonice - ECPv6.15.20//NONSGML v1.0//EN
CALSCALE:GREGORIAN
METHOD:PUBLISH
X-WR-CALNAME:TJ Sokol Slavonice
X-ORIGINAL-URL:https://sokolslavonice.cz
X-WR-CALDESC:Akce na TJ Sokol Slavonice
REFRESH-INTERVAL;VALUE=DURATION:PT1H
X-Robots-Tag:noindex
X-PUBLISHED-TTL:PT1H
BEGIN:VTIMEZONE
TZID:UTC
BEGIN:STANDARD
TZOFFSETFROM:+0000
TZOFFSETTO:+0000
TZNAME:UTC
DTSTART:20250101T000000
END:STANDARD
END:VTIMEZONE
BEGIN:VEVENT
DTSTART;TZID=UTC:20260527T170000
DTEND;TZID=UTC:20260527T190000
DTSTAMP:20260420T025525
CREATED:20260310T151311Z
LAST-MODIFIED:20260312T105425Z
UID:522-1779901200-1779908400@sokolslavonice.cz
SUMMARY:Slavonice U13 - Dačice B U13
DESCRIPTION:17. kolo\, 5. liga U13 sk. B – okr. Jindřichův Hradec \nSlavonice U13 – FK Dačice B U13\n \nStředa 27.05.26 17:00
URL:https://sokolslavonice.cz/akce/slavonice-u13-dacice-b-u13/
LOCATION:Hřiště TJ Sokol Slavonice\, Rudolecká 285\, Slavonice\, Jihočeský\, 37881\, Czech Republic
CATEGORIES:Fotbal
ORGANIZER;CN="TJ Sokol Slavonice":MAILTO:info@sokolslavonice.cz
END:VEVENT
END:VCALENDAR