BEGIN:VCALENDAR
VERSION:2.0
PRODID:-//TJ Sokol Slavonice - ECPv6.15.20//NONSGML v1.0//EN
CALSCALE:GREGORIAN
METHOD:PUBLISH
X-WR-CALNAME:TJ Sokol Slavonice
X-ORIGINAL-URL:https://sokolslavonice.cz
X-WR-CALDESC:Akce na TJ Sokol Slavonice
REFRESH-INTERVAL;VALUE=DURATION:PT1H
X-Robots-Tag:noindex
X-PUBLISHED-TTL:PT1H
BEGIN:VTIMEZONE
TZID:UTC
BEGIN:STANDARD
TZOFFSETFROM:+0000
TZOFFSETTO:+0000
TZNAME:UTC
DTSTART:20250101T000000
END:STANDARD
END:VTIMEZONE
BEGIN:VEVENT
DTSTART;TZID=UTC:20260513T173000
DTEND;TZID=UTC:20260513T193000
DTSTAMP:20260419T221356
CREATED:20260401T124547Z
LAST-MODIFIED:20260408T055142Z
UID:1313-1778693400-1778700600@sokolslavonice.cz
SUMMARY:Nová Bystřice – Slavonice
DESCRIPTION:OP VETERÁNSKÁ LIGA 2025 / 2026\n3. kolo (sk. východ)\nTJ Jiskra Nová Bystřice – TJ Sokol Slavonice\nStředa 13.5. 17:30
URL:https://sokolslavonice.cz/akce/nova-bystrice-slavonice/
LOCATION:Venkovní zápas\, Czech Republic
CATEGORIES:Fotbal
END:VEVENT
END:VCALENDAR